BEGIN:VCALENDAR
VERSION:2.0
PRODID:-//LOGOS CHRISTIAN CHURCH - ECPv6.8.3//NONSGML v1.0//EN
CALSCALE:GREGORIAN
METHOD:PUBLISH
X-WR-CALNAME:LOGOS CHRISTIAN CHURCH
X-ORIGINAL-URL:https://shengdao.org.sg
X-WR-CALDESC:LOGOS CHRISTIAN CHURCH的活动
REFRESH-INTERVAL;VALUE=DURATION:PT1H
X-Robots-Tag:noindex
X-PUBLISHED-TTL:PT1H
BEGIN:VTIMEZONE
TZID:Asia/Singapore
BEGIN:STANDARD
TZOFFSETFROM:+0800
TZOFFSETTO:+0800
TZNAME:+08
DTSTART:20250101T000000
END:STANDARD
END:VTIMEZONE
BEGIN:VEVENT
DTSTART;TZID=Asia/Singapore:20250209T103000
DTEND;TZID=Asia/Singapore:20250209T120000
DTSTAMP:20260420T082703
CREATED:20250308T092752Z
LAST-MODIFIED:20250308T092752Z
UID:8063-1739097000-1739102400@shengdao.org.sg
SUMMARY:圣道基督教会主日崇拜 (2025年2月9日)
DESCRIPTION:YouTube直播 https://www.youtube.com/channel/UCyA4KsrNjicSMLcAd2piJ7g/streams \n请订阅圣道YouTube频道，每周主日早上与我们一同敬拜。
URL:https://shengdao.org.sg/event/%e5%9c%a3%e9%81%93%e5%9f%ba%e7%9d%a3%e6%95%99%e4%bc%9a%e4%b8%bb%e6%97%a5%e5%b4%87%e6%8b%9c-2025%e5%b9%b42%e6%9c%889%e6%97%a5/
END:VEVENT
END:VCALENDAR