BEGIN:VCALENDAR
VERSION:2.0
PRODID:-//LOGOS CHRISTIAN CHURCH - ECPv6.8.3//NONSGML v1.0//EN
CALSCALE:GREGORIAN
METHOD:PUBLISH
X-WR-CALNAME:LOGOS CHRISTIAN CHURCH
X-ORIGINAL-URL:https://shengdao.org.sg
X-WR-CALDESC:LOGOS CHRISTIAN CHURCH的活动
REFRESH-INTERVAL;VALUE=DURATION:PT1H
X-Robots-Tag:noindex
X-PUBLISHED-TTL:PT1H
BEGIN:VTIMEZONE
TZID:Asia/Singapore
BEGIN:STANDARD
TZOFFSETFROM:+0800
TZOFFSETTO:+0800
TZNAME:+08
DTSTART:20210101T000000
END:STANDARD
END:VTIMEZONE
BEGIN:VEVENT
DTSTART;TZID=Asia/Singapore:20210404T113000
DTEND;TZID=Asia/Singapore:20210404T123000
DTSTAMP:20260421T214619
CREATED:20210525T145700Z
LAST-MODIFIED:20210525T150555Z
UID:1609-1617535800-1617539400@shengdao.org.sg
SUMMARY:2021年4月4日 & 5月9日 圣道基督教会家庭、亲子学堂
DESCRIPTION:聚会网页链接：http://shengdao.org.sg/event/20210404-the-family-life-educational-talk/ \n \n4月开始和“飞跃”机构联合主办的家庭学堂来到最后两堂，爸爸学堂和妈妈学堂 （各两堂，分别同时间上课）；请您通过以下链接报名或者透过ZOOM参加这两堂的讲座。 \n\n爸爸学堂（副堂303）报名链接\n妈妈学堂（4楼大堂及育婴室）报名链接\n爸爸学堂 Zoom链接\n妈妈学堂 Zoom链接
URL:https://shengdao.org.sg/event/20210404-the-family-life-educational-talk/
END:VEVENT
BEGIN:VEVENT
DTSTART;TZID=Asia/Singapore:20210401T200000
DTEND;TZID=Asia/Singapore:20210401T213000
DTSTAMP:20260421T214619
CREATED:20210511T172223Z
LAST-MODIFIED:20210512T060733Z
UID:1276-1617307200-1617312600@shengdao.org.sg
SUMMARY:2021年4月1日 受难节前夕特别聚会
DESCRIPTION:聚会网页链接：http://shengdao.org.sg/event/2021-04-01-good-friday-eve/ \n2021年4月1日 星期四 晚上8点正 / 四楼礼堂
URL:https://shengdao.org.sg/event/2021-04-01-good-friday-eve/
END:VEVENT
END:VCALENDAR