BEGIN:VCALENDAR
VERSION:2.0
PRODID:-//LOGOS CHRISTIAN CHURCH - ECPv6.8.3//NONSGML v1.0//EN
CALSCALE:GREGORIAN
METHOD:PUBLISH
X-ORIGINAL-URL:https://shengdao.org.sg
X-WR-CALDESC:LOGOS CHRISTIAN CHURCH的活动
REFRESH-INTERVAL;VALUE=DURATION:PT1H
X-Robots-Tag:noindex
X-PUBLISHED-TTL:PT1H
BEGIN:VTIMEZONE
TZID:Asia/Singapore
BEGIN:STANDARD
TZOFFSETFROM:+0800
TZOFFSETTO:+0800
TZNAME:+08
DTSTART:20240101T000000
END:STANDARD
END:VTIMEZONE
BEGIN:VEVENT
DTSTART;TZID=Asia/Singapore:20240901T121500
DTEND;TZID=Asia/Singapore:20240901T133000
DTSTAMP:20260421T084049
CREATED:20240819T134141Z
LAST-MODIFIED:20240924T053749Z
UID:7271-1725192900-1725197400@shengdao.org.sg
SUMMARY:2024年9月 信徒培训课程：成为有感染力的基督徒
DESCRIPTION:课程内容：发现自己具有感染力的信仰风格 \n注意：今天课程会在4楼403/404课室进行
URL:https://shengdao.org.sg/event/2024-09-discipleship-training-1/
CATEGORIES:课程
END:VEVENT
END:VCALENDAR